BEGIN:VCALENDAR
VERSION:2.0
PRODID:-//The Cowgirl: National Cowgirl Museum &amp; Hall of Fame - ECPv6.15.20//NONSGML v1.0//EN
CALSCALE:GREGORIAN
METHOD:PUBLISH
X-ORIGINAL-URL:https://www.cowgirl.net
X-WR-CALDESC:Events for The Cowgirl: National Cowgirl Museum &amp; Hall of Fame
REFRESH-INTERVAL;VALUE=DURATION:PT1H
X-Robots-Tag:noindex
X-PUBLISHED-TTL:PT1H
BEGIN:VTIMEZONE
TZID:America/Chicago
BEGIN:DAYLIGHT
TZOFFSETFROM:-0600
TZOFFSETTO:-0500
TZNAME:CDT
DTSTART:20250309T080000
END:DAYLIGHT
BEGIN:STANDARD
TZOFFSETFROM:-0500
TZOFFSETTO:-0600
TZNAME:CST
DTSTART:20251102T070000
END:STANDARD
BEGIN:DAYLIGHT
TZOFFSETFROM:-0600
TZOFFSETTO:-0500
TZNAME:CDT
DTSTART:20260308T080000
END:DAYLIGHT
BEGIN:STANDARD
TZOFFSETFROM:-0500
TZOFFSETTO:-0600
TZNAME:CST
DTSTART:20261101T070000
END:STANDARD
BEGIN:DAYLIGHT
TZOFFSETFROM:-0600
TZOFFSETTO:-0500
TZNAME:CDT
DTSTART:20270314T080000
END:DAYLIGHT
BEGIN:STANDARD
TZOFFSETFROM:-0500
TZOFFSETTO:-0600
TZNAME:CST
DTSTART:20271107T070000
END:STANDARD
END:VTIMEZONE
BEGIN:VEVENT
DTSTART;TZID=America/Chicago:20260426T120000
DTEND;TZID=America/Chicago:20260426T170000
DTSTAMP:20260420T001838
CREATED:20260120T214611Z
LAST-MODIFIED:20260325T165516Z
UID:10818-1777204800-1777222800@www.cowgirl.net
SUMMARY:Cinco In The District
DESCRIPTION:Celebrate Mexican American art and culture at Cinco in the District! This event is presented by the Fort Worth Museum of Science and History in collaboration with the National Cowgirl Museum & Hall of Fame\, the Cattle Raisers Museum\, and the Amon Carter Museum of American Art. Cinco in the District offers a lively celebration featuring an array of attractions and activities. Guests can expect mouthwatering food-truck fare\, talented vendors\, and captivating live entertainment like Mariachis\, fashion shows\, ballet folklorico performances and more.
URL:https://www.cowgirl.net/event/cinco-in-the-district/
ATTACH;FMTTYPE=image/png:https://www.cowgirl.net/wp-content/uploads/2026/01/Cinco-in-the-District-e1774457675763.png
END:VEVENT
END:VCALENDAR