BEGIN:VCALENDAR
VERSION:2.0
PRODID:-//The Cowgirl: National Cowgirl Museum &amp; Hall of Fame - ECPv6.15.20//NONSGML v1.0//EN
CALSCALE:GREGORIAN
METHOD:PUBLISH
X-ORIGINAL-URL:https://www.cowgirl.net
X-WR-CALDESC:Events for The Cowgirl: National Cowgirl Museum &amp; Hall of Fame
REFRESH-INTERVAL;VALUE=DURATION:PT1H
X-Robots-Tag:noindex
X-PUBLISHED-TTL:PT1H
BEGIN:VTIMEZONE
TZID:America/Chicago
BEGIN:DAYLIGHT
TZOFFSETFROM:-0600
TZOFFSETTO:-0500
TZNAME:CDT
DTSTART:20240310T080000
END:DAYLIGHT
BEGIN:STANDARD
TZOFFSETFROM:-0500
TZOFFSETTO:-0600
TZNAME:CST
DTSTART:20241103T070000
END:STANDARD
BEGIN:DAYLIGHT
TZOFFSETFROM:-0600
TZOFFSETTO:-0500
TZNAME:CDT
DTSTART:20250309T080000
END:DAYLIGHT
BEGIN:STANDARD
TZOFFSETFROM:-0500
TZOFFSETTO:-0600
TZNAME:CST
DTSTART:20251102T070000
END:STANDARD
BEGIN:DAYLIGHT
TZOFFSETFROM:-0600
TZOFFSETTO:-0500
TZNAME:CDT
DTSTART:20260308T080000
END:DAYLIGHT
BEGIN:STANDARD
TZOFFSETFROM:-0500
TZOFFSETTO:-0600
TZNAME:CST
DTSTART:20261101T070000
END:STANDARD
END:VTIMEZONE
BEGIN:VEVENT
DTSTART;TZID=America/Chicago:20250821T173000
DTEND;TZID=America/Chicago:20250821T190000
DTSTAMP:20260423T215732
CREATED:20250324T150306Z
LAST-MODIFIED:20250610T192054Z
UID:9878-1755797400-1755802800@www.cowgirl.net
SUMMARY:Cowgirl Connection featuring Lauren Lovelace Murray
DESCRIPTION:Thursday\, August 21\, 2025 \n5:30-7:00 PM \nFREE \nCowgirl Connection featuring Lauren Lovelace Murray. \nLauren Lovelace Murray is the first woman to achieve the ranking of Executive Vice President of the legendary Fort Worth Stock Show & Rodeo in its more than 125-year history. Having risen through its ranks in a career that spans more than 20 years\, Murray first served as the Horse Show assistant to eventually become the Horse Show Director before being tapped as the Executive Vice President. She oversees multiple aspects of the Show which welcomes more than 1.2 million visitors annually and awarded more than $10 million in premiums to Texas 4-H and FFA students in 2025. \nDoors open at 5:30 p.m. with complimentary drinks and light bites. \nProgram starts at 6:00 p.m. \nParking in Museum Lot is $12 per car. \nCowgirl Museum Members receive free parking. \nPlease RSVP to rsvp@cowgirl.net. \nThis event is FREE for the public to attend but seating is limited; advance reservations are required. \n  \nAbout Lauren: \n \nAbout Lauren: \nLauren Lovelace Murray grew up in Grapevine\, Texas and is a graduate of Texas Tech University with a Bachelors of Animal Science and a Masters of Animal Science. She has worked at the Fort Worth Stock Show & Rodeo since 2005 and recently has changed roles from Horse Show Director to Executive Vice President. \nAs the Horse Show Director at the Fort Worth Stock Show & Rodeo\, her responsibilities included implementation of Ranching Heritage Weekend which includes Ranch Horse Shows\, 3 Horse Sales\, a Ranch Gathering Party\, and planning and execution of the 16 breed/discipline Horse Show and managing the Equine Scholarship Program that will award over $190\,000 in scholarships to Equine Youth. In 2024\, the Fort Worth Stock Show & Rodeo Horse Show had over 5\,500 entries in the 23 day Show. \nIn her new role\, she will assist in all aspects of FWSSR Show Operations. \nShe also serves as Texas Director for the American Quarter Horse Association and on the AQHA Marketing and Membership Committee\, President of the Citizens Support Group for the Fort Worth Police Mounted Patrol and is a former Board Member for the Fort Worth Farm & Ranch Club. \nShe lives in Fort Worth\, Texas and enjoys spending time with family\, friends on the lake\, and at home with her yellow labs “Taos”\, “Mae” & “West” and her American Quarter Horses.
URL:https://www.cowgirl.net/event/cowgirl-connection-featuring-laruren-lovelace-murray/
LOCATION:National Cowgirl Museum and Hall of Fame
ATTACH;FMTTYPE=image/jpeg:https://www.cowgirl.net/wp-content/uploads/2025/03/Cowgirl-Connection-Icon-Lauren-2.jpg
END:VEVENT
BEGIN:VEVENT
DTSTART;TZID=America/Chicago:20250823T140000
DTEND;TZID=America/Chicago:20250823T160000
DTSTAMP:20260423T215732
CREATED:20250422T202510Z
LAST-MODIFIED:20250730T195858Z
UID:9914-1755957600-1755964800@www.cowgirl.net
SUMMARY:Cowgirl U Workshop: Floral Design with Camellia Farm Flora
DESCRIPTION:Saturday\, August 23\, 2025 \n2:00-4:00 PM \nCowgirl U Workshop: Floral Arrangement Class featuring Camellia Farm Flora \nSOLD OUT \n  \nGet out of the sweltering Texas heat and join us for a delightful floral design workshop led by Tammie Warner\, founder and owner of Camellia Farm Flora. Tammie flourishes in Fort Worth with her luxury floral brand while creating daily arrangements as well as extravagant weddings\, events\, and motion picture sets. \n Participants will create their very own stunning tableside arrangement featuring luxury flowers including hydrangea\, garden roses\, ranunculus\, and tulips. This quaint bouquet is the perfect accent to elevate the luxury of your bedside table.  \n All supplies are included\, so simply bring your enthusiasm and a willingness to unleash your inner florist. \n Tickets are only $50 per person and include all floral supplies plus complimentary light bites and drinks. There are only a limited number of spots available for this Cowgirl U Workshop—purchase your ticket today by clicking HERE.
URL:https://www.cowgirl.net/event/cowgirl-u-workshop-floral-arrangement-class-featuring-camellia-farm-flora/
ATTACH;FMTTYPE=image/png:https://www.cowgirl.net/wp-content/uploads/2025/04/Cowgirl-U-Workshop-Floral-Design-LOGO.png
END:VEVENT
END:VCALENDAR