BEGIN:VCALENDAR
VERSION:2.0
PRODID:-//The Cowgirl: National Cowgirl Museum &amp; Hall of Fame - ECPv6.15.20//NONSGML v1.0//EN
CALSCALE:GREGORIAN
METHOD:PUBLISH
X-WR-CALNAME:The Cowgirl: National Cowgirl Museum &amp; Hall of Fame
X-ORIGINAL-URL:https://www.cowgirl.net
X-WR-CALDESC:Events for The Cowgirl: National Cowgirl Museum &amp; Hall of Fame
REFRESH-INTERVAL;VALUE=DURATION:PT1H
X-Robots-Tag:noindex
X-PUBLISHED-TTL:PT1H
BEGIN:VTIMEZONE
TZID:America/Chicago
BEGIN:DAYLIGHT
TZOFFSETFROM:-0600
TZOFFSETTO:-0500
TZNAME:CDT
DTSTART:20250309T080000
END:DAYLIGHT
BEGIN:STANDARD
TZOFFSETFROM:-0500
TZOFFSETTO:-0600
TZNAME:CST
DTSTART:20251102T070000
END:STANDARD
BEGIN:DAYLIGHT
TZOFFSETFROM:-0600
TZOFFSETTO:-0500
TZNAME:CDT
DTSTART:20260308T080000
END:DAYLIGHT
BEGIN:STANDARD
TZOFFSETFROM:-0500
TZOFFSETTO:-0600
TZNAME:CST
DTSTART:20261101T070000
END:STANDARD
BEGIN:DAYLIGHT
TZOFFSETFROM:-0600
TZOFFSETTO:-0500
TZNAME:CDT
DTSTART:20270314T080000
END:DAYLIGHT
BEGIN:STANDARD
TZOFFSETFROM:-0500
TZOFFSETTO:-0600
TZNAME:CST
DTSTART:20271107T070000
END:STANDARD
END:VTIMEZONE
BEGIN:VEVENT
DTSTART;TZID=America/Chicago:20260314T140000
DTEND;TZID=America/Chicago:20260314T160000
DTSTAMP:20260423T153541
CREATED:20260106T202551Z
LAST-MODIFIED:20260312T152325Z
UID:10754-1773496800-1773504000@www.cowgirl.net
SUMMARY:Leather Bracelet Jewelry
DESCRIPTION:SOLD OUT! \nJoin The Cowgirl Saturday\, March 14\, from 2–4 PM for an exclusive Cowgirl U Workshop celebrating the art of leather jewelry design. This creative\, hands-on experience invites you to craft a stunning\, one-of-a-kind leather bracelet alongside respected local leather artisans Ashlee and Kyle Cowan of Houston Armstrong Designs. \nInspired by classic Western craftsmanship and modern cowgirl style\, this workshop welcomes all skill levels—from first-time makers to seasoned hands. Participants will work with premium leathers\, receive expert guidance\, and enjoy thoughtful finishing touches throughout. Tickets are $50 per person and include all bracelet materials\, along with complimentary drinks and light bites for a beautifully crafted afternoon of leather artistry and design. \nCowgirl U Workshop tickets can be purchased here. \nPlease note that because Cowgirl U Workshop costs are committed in advance\, tickets are final and nonrefundable. If you’re unable to attend\, you may choose to convert your ticket purchase into a tax-deductible donation by notifying us in writing before the event. We’re happy to provide a donation receipt upon request. For additional information\, please contact Jennifer LeGrand\, Director of Special Events\, at jlegrand@cowgirl.net.
URL:https://www.cowgirl.net/event/leather-bracelet-jewelry/
LOCATION:National Cowgirl Museum and Hall of Fame
ATTACH;FMTTYPE=image/png:https://www.cowgirl.net/wp-content/uploads/2026/01/Cowgirl-U-Cookie-Workshop-Banners-for-Downstairs-1920-X-1080-1200-x-600-px-800-x-800-px.png
END:VEVENT
END:VCALENDAR