BEGIN:VCALENDAR
VERSION:2.0
PRODID:-//The Cowgirl: National Cowgirl Museum &amp; Hall of Fame - ECPv6.15.20//NONSGML v1.0//EN
CALSCALE:GREGORIAN
METHOD:PUBLISH
X-WR-CALNAME:The Cowgirl: National Cowgirl Museum &amp; Hall of Fame
X-ORIGINAL-URL:https://www.cowgirl.net
X-WR-CALDESC:Events for The Cowgirl: National Cowgirl Museum &amp; Hall of Fame
REFRESH-INTERVAL;VALUE=DURATION:PT1H
X-Robots-Tag:noindex
X-PUBLISHED-TTL:PT1H
BEGIN:VTIMEZONE
TZID:America/Chicago
BEGIN:DAYLIGHT
TZOFFSETFROM:-0600
TZOFFSETTO:-0500
TZNAME:CDT
DTSTART:20250309T080000
END:DAYLIGHT
BEGIN:STANDARD
TZOFFSETFROM:-0500
TZOFFSETTO:-0600
TZNAME:CST
DTSTART:20251102T070000
END:STANDARD
BEGIN:DAYLIGHT
TZOFFSETFROM:-0600
TZOFFSETTO:-0500
TZNAME:CDT
DTSTART:20260308T080000
END:DAYLIGHT
BEGIN:STANDARD
TZOFFSETFROM:-0500
TZOFFSETTO:-0600
TZNAME:CST
DTSTART:20261101T070000
END:STANDARD
BEGIN:DAYLIGHT
TZOFFSETFROM:-0600
TZOFFSETTO:-0500
TZNAME:CDT
DTSTART:20270314T080000
END:DAYLIGHT
BEGIN:STANDARD
TZOFFSETFROM:-0500
TZOFFSETTO:-0600
TZNAME:CST
DTSTART:20271107T070000
END:STANDARD
END:VTIMEZONE
BEGIN:VEVENT
DTSTART;TZID=America/Chicago:20260307T120000
DTEND;TZID=America/Chicago:20260307T160000
DTSTAMP:20260423T120804
CREATED:20260216T192135Z
LAST-MODIFIED:20260303T172915Z
UID:10888-1772884800-1772899200@www.cowgirl.net
SUMMARY:2nd Annual Día de la Charra
DESCRIPTION:What: National Cowgirl Museum’s 2nd Annual Día de la Charra\nWhere: National Cowgirl Museum and Hall of Fame\, 1720 Gendy Street 76107\nWhen: March 7\, 2026\, 12:00 – 4:00pm\nWho: All are welcome!\n\nCome view the exhibition “Soldaderas to Amazonas\, Escaramuza Charras” and enjoy a day at The Cowgirl filled with vibrant energy\, community\, and tradition! There will be crafts and activities for kids\, escaramuza-themed lotería with prizes\, a 360° photobooth\, delicious eats from the Salmark BBQ food truck\, and more!\n\nSpecial thanks to our community partners: Visita Fort Worth and Artes de la Rosa.
URL:https://www.cowgirl.net/event/2nd-annual-dia-de-la-charra/
LOCATION:National Cowgirl Museum and Hall of Fame
END:VEVENT
END:VCALENDAR