BEGIN:VCALENDAR
VERSION:2.0
PRODID:-//The Cowgirl: National Cowgirl Museum &amp; Hall of Fame - ECPv6.15.20//NONSGML v1.0//EN
CALSCALE:GREGORIAN
METHOD:PUBLISH
X-WR-CALNAME:The Cowgirl: National Cowgirl Museum &amp; Hall of Fame
X-ORIGINAL-URL:https://www.cowgirl.net
X-WR-CALDESC:Events for The Cowgirl: National Cowgirl Museum &amp; Hall of Fame
REFRESH-INTERVAL;VALUE=DURATION:PT1H
X-Robots-Tag:noindex
X-PUBLISHED-TTL:PT1H
BEGIN:VTIMEZONE
TZID:America/Chicago
BEGIN:DAYLIGHT
TZOFFSETFROM:-0600
TZOFFSETTO:-0500
TZNAME:CDT
DTSTART:20240310T080000
END:DAYLIGHT
BEGIN:STANDARD
TZOFFSETFROM:-0500
TZOFFSETTO:-0600
TZNAME:CST
DTSTART:20241103T070000
END:STANDARD
BEGIN:DAYLIGHT
TZOFFSETFROM:-0600
TZOFFSETTO:-0500
TZNAME:CDT
DTSTART:20250309T080000
END:DAYLIGHT
BEGIN:STANDARD
TZOFFSETFROM:-0500
TZOFFSETTO:-0600
TZNAME:CST
DTSTART:20251102T070000
END:STANDARD
BEGIN:DAYLIGHT
TZOFFSETFROM:-0600
TZOFFSETTO:-0500
TZNAME:CDT
DTSTART:20260308T080000
END:DAYLIGHT
BEGIN:STANDARD
TZOFFSETFROM:-0500
TZOFFSETTO:-0600
TZNAME:CST
DTSTART:20261101T070000
END:STANDARD
END:VTIMEZONE
BEGIN:VEVENT
DTSTART;TZID=America/Chicago:20251011T110000
DTEND;TZID=America/Chicago:20251011T140000
DTSTAMP:20260423T174756
CREATED:20250313T203635Z
LAST-MODIFIED:20251001T205437Z
UID:9862-1760180400-1760191200@www.cowgirl.net
SUMMARY:Trick or Trot
DESCRIPTION:Saturday\, October 11\, 2025 \n11 a.m. to 2 p.m. \nOne of our most popular community events is back! Join the National Cowgirl Museum and Hall of Fame for the 3rd Annual Trick or Trot on Saturday\, October 11\, 2025\, from 11:00 a.m.-2:00 p.m. in the Cowgirl Plaza. \nThis is a FREE\, family-friendly community event! OPEN TO THE PUBLIC. \nWhat to expect: \n\nFREE COWGIRL MUSEUM ADMISSION!\nLive Music featuring the dynamic duo\, Danni & Kris\nKid’s Games and Crafts\nFace Painting\nCostume Contest at Noon with prizes and special guest judges\n\nCategories include: best dressed individual\, best dressed group\, best dressed pet\, most spooky\, most funny\, and most creative\n\n\nFood (plus beer & wine!) available for purchase at Beyond the Box Food Truck\nCandy Stations\nAND MORE!\n\nFor additional event information\, please contact Jennifer LeGrand\, Director of Special Events\, at jlegrand@cowgirl.net.
URL:https://www.cowgirl.net/event/trick-or-trot-3/
END:VEVENT
END:VCALENDAR