BEGIN:VCALENDAR
VERSION:2.0
PRODID:-//The Cowgirl: National Cowgirl Museum &amp; Hall of Fame - ECPv6.15.20//NONSGML v1.0//EN
CALSCALE:GREGORIAN
METHOD:PUBLISH
X-WR-CALNAME:The Cowgirl: National Cowgirl Museum &amp; Hall of Fame
X-ORIGINAL-URL:https://www.cowgirl.net
X-WR-CALDESC:Events for The Cowgirl: National Cowgirl Museum &amp; Hall of Fame
REFRESH-INTERVAL;VALUE=DURATION:PT1H
X-Robots-Tag:noindex
X-PUBLISHED-TTL:PT1H
BEGIN:VTIMEZONE
TZID:America/Chicago
BEGIN:DAYLIGHT
TZOFFSETFROM:-0600
TZOFFSETTO:-0500
TZNAME:CDT
DTSTART:20240310T080000
END:DAYLIGHT
BEGIN:STANDARD
TZOFFSETFROM:-0500
TZOFFSETTO:-0600
TZNAME:CST
DTSTART:20241103T070000
END:STANDARD
BEGIN:DAYLIGHT
TZOFFSETFROM:-0600
TZOFFSETTO:-0500
TZNAME:CDT
DTSTART:20250309T080000
END:DAYLIGHT
BEGIN:STANDARD
TZOFFSETFROM:-0500
TZOFFSETTO:-0600
TZNAME:CST
DTSTART:20251102T070000
END:STANDARD
BEGIN:DAYLIGHT
TZOFFSETFROM:-0600
TZOFFSETTO:-0500
TZNAME:CDT
DTSTART:20260308T080000
END:DAYLIGHT
BEGIN:STANDARD
TZOFFSETFROM:-0500
TZOFFSETTO:-0600
TZNAME:CST
DTSTART:20261101T070000
END:STANDARD
END:VTIMEZONE
BEGIN:VEVENT
DTSTART;TZID=America/Chicago:20250724T173000
DTEND;TZID=America/Chicago:20250724T190000
DTSTAMP:20260424T001755
CREATED:20250324T144619Z
LAST-MODIFIED:20250527T145606Z
UID:9873-1753378200-1753383600@www.cowgirl.net
SUMMARY:Cowgirl Connection featuring Jan Youren
DESCRIPTION:Thursday\, July 24th\, 2025 \n5:30-7:00 PM \nFREE \nCowgirl Connection featuring Jan Youren \nHere’s a gal who can put the “yee” into your “haw!\,”1993 Cowgirl Hall of Fame Honoree\, Jan Youren.  Come listen to this former professional rodeo bareback bronc and bull riding champion\, who during her 51 years as a competitor\, won several world titles and top honors including five world championships in bareback bronc riding\, 13 reserve championships in bareback\, and 15 reserve championships in bull riding. She rode her last bucking bronc at the age of 71 and said she still has one more ride left in her. \nDoors open at 5:30 p.m. with complimentary drinks and light bites. \nProgram starts at 6:00 p.m. \nParking in Museum Lot is $12 per car. \nCowgirl Museum Members receive free parking. \nPlease RSVP to rsvp@cowgirl.net. \nThis event is FREE for the public to attend but seating is limited; advance reservations are required. \n About Jan Youren: \n \nJan excelled in every rodeo event\, especially bareback bronc and bull riding. She competed for more than four decades\, winning top honors and world titles in the WPRA. A fervent advocate of the sport since her first bareback bronc ride\, Jan also holds clinics to teach young women the art of riding rough stock. Balancing her life between rodeo and family\, Jan’s dedication and goodwill personify what it means to be a cowgirl. She and her late husband Jim have 15 children (eight together)\, 64 grandchildren\, and 116 great grandchildren.
URL:https://www.cowgirl.net/event/cowgirl-connection-featuring-jan-youren/
ATTACH;FMTTYPE=image/png:https://www.cowgirl.net/wp-content/uploads/2025/03/Cowgirl-Connection-Icon-Youren.png
END:VEVENT
END:VCALENDAR